BEGIN:VCALENDAR
VERSION:2.0
PRODID:-//Drytown Cellars - ECPv6.15.20//NONSGML v1.0//EN
CALSCALE:GREGORIAN
METHOD:PUBLISH
X-WR-CALNAME:Drytown Cellars
X-ORIGINAL-URL:https://drytowncellars.com
X-WR-CALDESC:Events for Drytown Cellars
REFRESH-INTERVAL;VALUE=DURATION:PT1H
X-Robots-Tag:noindex
X-PUBLISHED-TTL:PT1H
BEGIN:VTIMEZONE
TZID:UTC
BEGIN:STANDARD
TZOFFSETFROM:+0000
TZOFFSETTO:+0000
TZNAME:UTC
DTSTART:20250101T000000
END:STANDARD
END:VTIMEZONE
BEGIN:VEVENT
DTSTART;TZID=UTC:20261003T103000
DTEND;TZID=UTC:20261004T163000
DTSTAMP:20260422T155241
CREATED:20260412T185201Z
LAST-MODIFIED:20260412T185201Z
UID:1583-1791023400-1791131400@drytowncellars.com
SUMMARY:Amador Vintner's Association | Big Crush
DESCRIPTION:Big Crush is the perfect time to experience harvest in action\, and this year will be no exception! With Amador Wine Country wineries participating\, guests can enjoy an array of behind-the-scenes harvest experiences—from barrel tastings and winery tours to watching crush in action at our family-owned wineries. \nThis year\, Big Crush is a reservation-only event\, allowing you to plan your perfect day in advance. Reservations are required at each winery you plan to visit. Each participating winery will offer unique harvest-themed experiences\, wine tastings\, food pairings\, and live music. \nWhen booking your reservations\, you’ll receive details about each experience\, ensuring a seamless and personalized itinerary. Upon arrival at your first reservation\, you’ll be greeted with a commemorative wine glass and an event guide. Explore the region at your own pace while enjoying the best of Amador Wine Country during harvest season! \nWinery Experiences Coming Soon \nSingle Day:  Sunday or Sunday Only – $50| Full Weekend: Saturday & Sunday $65 | Designated Drive $25 per day
URL:https://drytowncellars.com/events/amador-vintners-association-big-crush/
LOCATION:Amador Wine Country
END:VEVENT
BEGIN:VEVENT
DTSTART;TZID=UTC:20261121T110000
DTEND;TZID=UTC:20261122T170000
DTSTAMP:20260422T155241
CREATED:20260412T185426Z
LAST-MODIFIED:20260412T185426Z
UID:1586-1795258800-1795366800@drytowncellars.com
SUMMARY:Fall Wine Club Release Party
DESCRIPTION:Enjoy wine tasting\, barrel tastings\, amazing food\, and great live music! \nStay tuned on what’s for lunch\, and who’s playing! \nFollow us on social media for additional details as it gets closer!
URL:https://drytowncellars.com/events/fall-wine-club-release-party/
LOCATION:16030 Hwy 49 Drytown CA 95699
END:VEVENT
BEGIN:VEVENT
DTSTART;TZID=UTC:20261212T110000
DTEND;TZID=UTC:20261213T170000
DTSTAMP:20260422T155241
CREATED:20260412T185605Z
LAST-MODIFIED:20260412T185605Z
UID:1588-1797073200-1797181200@drytowncellars.com
SUMMARY:Holiday Open House
DESCRIPTION:Christmas is around the corner\, and we want to celebrate with YOU! \nBe on the lookout for additional details regarding food and music.
URL:https://drytowncellars.com/events/holiday-open-house/
LOCATION:16030 Hwy 49 Drytown CA 95699
END:VEVENT
END:VCALENDAR